BEGIN:VCALENDAR
VERSION:2.0
PRODID:-//ChamberMaster//Event Calendar 2.0//EN
METHOD:PUBLISH
X-PUBLISHED-TTL:P3D
REFRESH-INTERVAL:P3D
CALSCALE:GREGORIAN
BEGIN:VEVENT
DTSTART:20130904T144500Z
DTEND:20131002T174500Z
X-MICROSOFT-CDO-ALLDAYEVENT:FALSE
SUMMARY:Volunteer Tutor Training at Elmhurst Public Library
DESCRIPTION:Help change someone's future become an adult literacy tutor today! Imagine not being able to read a food label\, complete a job application\, or help a child with homework. Many of your neighbors in the Elmhurst area need assistance in learning to read\, write\, speak and understand English as they struggle with these everyday tasks. Literacy DuPage\, in partnership with the Elmhurst Public Library\, is offering a way that you can help someone with limited English discover his or her full potential. Our tutor training will teach you how to assist adults by providing one-on-one tutoring at a time and place convenient for you and the adult learner. No teaching background or second language is required. Join us for the tutor training workshop series of six sessions as follows: Sept 4\, 11\, 16\, 18\, and October 2\, 2013 from 9:45 am to 12:45 pm. at the Elmhurst Public Library. To register\, call (630) 416-6699. For more information\, visit www.literacydupage.org.
X-ALT-DESC;FMTTYPE=text/html:<p>\n	<span style="font-family:&quot\;Calibri&quot\;\,&quot\;sans-serif&quot\;">Help change someone&rsquo\;s future&hellip\;become an adult literacy tutor today! Imagine not being able to read a food label\, complete a job application\, or help a child with homework. Many of your neighbors in the Elmhurst area need assistance in learning to read\, write\, speak and understand English as they struggle with these everyday tasks. Literacy DuPage\, in partnership with the Elmhurst Public Library\, is offering a way that you can help someone with limited English discover his or her full potential. Our tutor training will teach you how to assist adults by providing one-on-one tutoring at a time and place convenient for you and the adult learner. No teaching background or second language is required. Join us for the tutor training workshop series of six sessions as follows: Sept 4\, 11\, 16\, 18\, and October 2\, 2013 from 9:45 am to 12:45 pm. at the Elmhurst Public Library. To register\, call (630) 416-6699. For more information\, visit www.literacydupage.org.<o:p></o:p></span></p>\n
LOCATION:Elmhurst Public Library
UID:e.333.5582
SEQUENCE:3
DTSTAMP:20260422T112323Z
URL:https://chambermaster.elmhurstchamber.org/events/details/volunteer-tutor-training-at-elmhurst-public-library-09-04-2013-5582
END:VEVENT

END:VCALENDAR
