BEGIN:VCALENDAR
VERSION:2.0
PRODID:-//ChamberMaster//Event Calendar 2.0//EN
METHOD:PUBLISH
X-PUBLISHED-TTL:P3D
REFRESH-INTERVAL:P3D
CALSCALE:GREGORIAN
BEGIN:VEVENT
DTSTART:20130612T233000Z
DTEND:20130815T010000Z
X-MICROSOFT-CDO-ALLDAYEVENT:FALSE
SUMMARY:Wednesday Night Sunset Walks
DESCRIPTION:All Ages\n\n	We will be taking evening walks exploring all the different eco systems at Eldridge Park.  The walk will be lead by our environmental education staff.  Come join us for a relaxing evening and learn about the most diverse parks in Elmhurst.  The Eldridge Nature center will be open in case of poor weather\, and staff will be on hand to lead indoor activities.
X-ALT-DESC;FMTTYPE=text/html:<p class="MsoNormal" style="margin: 0in 0in 0pt 0.1in\;">\n	<font color="#000000" face="Calibri" size="3">All Ages</font></p>\n<p class="MsoNormal" style="margin: 0in 0in 0pt 0.1in\;">\n	<font size="3"><font color="#000000"><font face="Calibri">We will be taking evening walks exploring all the different eco systems at Eldridge Park.<span style="mso-spacerun: yes\;">&nbsp\; </span>The walk will be lead by our environmental education staff.<span style="mso-spacerun: yes\;">&nbsp\; </span>Come join us for a relaxing evening and learn about the most diverse parks in Elmhurst.<span style="mso-spacerun: yes\;">&nbsp\; </span>The Eldridge Nature center will be open in case of poor weather\, and staff will be on hand to lead indoor activities.<span style="mso-spacerun: yes\;">&nbsp\; </span></font></font></font></p>\n<p class="MsoNormal" style="margin: 0in 0in 0pt 0.1in\;">\n	&nbsp\;</p>\n
LOCATION:Eldridge Nature Center
UID:e.333.5307
SEQUENCE:3
DTSTAMP:20260422T133339Z
URL:https://chambermaster.elmhurstchamber.org/events/details/wednesday-night-sunset-walks-06-12-2013-5307
END:VEVENT

END:VCALENDAR
