BEGIN:VCALENDAR
VERSION:2.0
PRODID:-//ChamberMaster//Event Calendar 2.0//EN
METHOD:PUBLISH
X-PUBLISHED-TTL:P3D
REFRESH-INTERVAL:P3D
CALSCALE:GREGORIAN
BEGIN:VEVENT
DTSTART:20110420T003000Z
DTEND:20110420T013000Z
X-MICROSOFT-CDO-ALLDAYEVENT:FALSE
SUMMARY:WEIGHT LOSS NUTRITION-Change Your Life!
DESCRIPTION:Dr. Mike Calcagno will be talking about how to change your life and lose weight the healthy way.\n\n\n\n* Goal Setting\n\n* Realistic Goals\n\n* Ability to Achieve a Goal\n\n* Healthy Ways to Achieve Your Goal\n\n\n\nCALL 630-833-4437 TO REGISTER YOURSELF AND A GUEST!
X-ALT-DESC;FMTTYPE=text/html:Dr. Mike Calcagno will be talking about how to change your life and lose weight the healthy way.<br />\n<br />\n* Goal Setting<br />\n* Realistic Goals<br />\n* Ability to Achieve a Goal<br />\n* Healthy Ways to Achieve Your Goal<br />\n<br />\nCALL 630-833-4437 TO&nbsp\;REGISTER YOURSELF AND&nbsp\;A GUEST! 
LOCATION:Olympic Chiropractic & Physical Therapy 533 S. York Rd Elmhurst\, IL 60126
UID:e.333.4151
SEQUENCE:3
DTSTAMP:20260425T204849Z
URL:https://chambermaster.elmhurstchamber.org/events/details/weight-loss-nutrition-change-your-life-04-19-2011-4151
END:VEVENT

END:VCALENDAR
