BEGIN:VCALENDAR
VERSION:2.0
PRODID:-//ChamberMaster//Event Calendar 2.0//EN
METHOD:PUBLISH
X-PUBLISHED-TTL:P3D
REFRESH-INTERVAL:P3D
CALSCALE:GREGORIAN
BEGIN:VEVENT
DTSTART:20110817T223000Z
DTEND:20110817T233000Z
X-MICROSOFT-CDO-ALLDAYEVENT:FALSE
SUMMARY:What EVERY business should know about their 401k plans
DESCRIPTION:Kevin Kost of Edward Jones Investments will be speaking about "What every business should know about their 401k plans".  Including: 1. What is my Fiduciary responsibility as a plan sponsor? 2. Why do I need to be aware of all plan fees? 3. What is the New Fee Disclosure rule? 4. How Edward Jones can help you!\n\n\n\nAttendance will be free to Chamber members and special guests.
X-ALT-DESC;FMTTYPE=text/html:Kevin Kost of Edward Jones Investments will be speaking about &quot\;What every business should know about their 401k plans&quot\;.&nbsp\; Including: 1. What is my Fiduciary responsibility as a plan sponsor? 2. Why do I need to be aware of all plan fees? 3. What is the New Fee Disclosure rule? 4. How Edward Jones can help you!<br />\n<br />\nAttendance will be free to Chamber members and special guests.&nbsp\; 
LOCATION:Elmhurst Chamber of Commerce & Industry Community Bank of Elmhurst Board Room 242 N York St.\, Ste 102 Elmhurst\, IL 60126
UID:e.333.4204
SEQUENCE:3
DTSTAMP:20260425T152931Z
URL:https://chambermaster.elmhurstchamber.org/events/details/what-every-business-should-know-about-their-401k-plans-08-17-2011-4204
END:VEVENT

END:VCALENDAR
