BEGIN:VCALENDAR
VERSION:2.0
PRODID:-//ChamberMaster//Event Calendar 2.0//EN
METHOD:PUBLISH
X-PUBLISHED-TTL:P3D
REFRESH-INTERVAL:P3D
CALSCALE:GREGORIAN
BEGIN:VEVENT
DTSTART:20130515T233000Z
DTEND:20130516T020000Z
X-MICROSOFT-CDO-ALLDAYEVENT:FALSE
SUMMARY:Wilder Mansion Culinary Series
DESCRIPTION:In this demonstration class\, Marco Conte from Caf  Amano will walk you step-by-step through the process of creating an entire five-course menu.  Attendees are provided recipes to take notes and write comments as they watch and learn the important details of culinary technique and meal preparation.  Includes full five-course meal.  For info\, call (630) 993-8186.  Wednesdays. For dates and times\, visit www.epd.org.
X-ALT-DESC;FMTTYPE=text/html:<p class="MsoNormal" style="margin: 0in 0in 0pt 0.1in\;">\n	<font color="#000000" face="Calibri" size="3">In this demonstration class\, Marco Conte from Caf&eacute\; Amano will walk you step-by-step through the process of creating an entire five-course menu.<span style="mso-spacerun: yes\;">&nbsp\; </span>Attendees are provided recipes to take notes and write comments as they watch and learn the important details of culinary technique and meal preparation.<span style="mso-spacerun: yes\;">&nbsp\; </span>Includes full five-course meal.<span style="mso-spacerun: yes\;">&nbsp\; </span>For info\, call (630) 993-8186.<span style="mso-spacerun: yes\;">&nbsp\; </span>Wednesdays. For dates and times\, visit </font><a href="http://www.epd.org/"><font color="#0000ff" face="Calibri" size="3">www.epd.org</font></a><font color="#000000" face="Calibri" size="3">.</font></p>\n
LOCATION:Wilder Mansion
UID:e.333.5293
SEQUENCE:3
DTSTAMP:20260422T180603Z
URL:https://chambermaster.elmhurstchamber.org/events/details/wilder-mansion-culinary-series-05-15-2013-5293
END:VEVENT

END:VCALENDAR
