BEGIN:VCALENDAR
VERSION:2.0
PRODID:-//ChamberMaster//Event Calendar 2.0//EN
METHOD:PUBLISH
X-PUBLISHED-TTL:P3D
REFRESH-INTERVAL:P3D
CALSCALE:GREGORIAN
BEGIN:VEVENT
DTSTART:20130918T233000Z
DTEND:20130919T020000Z
X-MICROSOFT-CDO-ALLDAYEVENT:FALSE
SUMMARY:Wilder Mansion Culinary Series
DESCRIPTION:Ages 18 and older\n\n	Looking to learn a new dish for the fall?  Join us at the Wilder Mansion for a demo cooking class hosted by Chef Marco from Caf  Amano.  All cooking classes will feature five courses: appetizer\, soup or salad\, pasta or salad\, entr e and dessert.  Participants will also learn knife skills and helpful kitchen tricks.  Price includes tax and gratuity.  Beverage option for red and white wine or soft drinks only.  Online registration is available for the wine package only.\n\n	  \n\n	Wednesday\, September 18   6:30-9 p.m.   A Taste of Italy\n\n	Wednesday\, October 16        6:30-9 p.m.    Fall Harvest\n\n	Wednesday\, November 20    6:30-9 p.m.    Thanksgiving Side Dishes
X-ALT-DESC;FMTTYPE=text/html:<p class="MsoNormal" style="margin: 0in 0in 0pt 0.1in\;">\n	<font color="#000000" face="Calibri" size="3">Ages 18 and older</font></p>\n<p class="MsoNormal" style="margin: 0in 0in 0pt 0.1in\;">\n	<font size="3"><font color="#000000"><font face="Calibri">Looking to learn a new dish for the fall?<span style="mso-spacerun: yes\;">&nbsp\; </span>Join us at the Wilder Mansion for a demo cooking class hosted by Chef Marco from Caf&eacute\; Amano.<span style="mso-spacerun: yes\;">&nbsp\; </span>All cooking classes will feature five courses: appetizer\, soup or salad\, pasta or salad\, entr&eacute\;e and dessert.<span style="mso-spacerun: yes\;">&nbsp\; </span>Participants will also learn knife skills and helpful kitchen tricks.<span style="mso-spacerun: yes\;">&nbsp\; </span>Price includes tax and gratuity.<span style="mso-spacerun: yes\;">&nbsp\; </span>Beverage option for red and white wine or soft drinks only.<span style="mso-spacerun: yes\;">&nbsp\; </span>Online registration is available for the wine package only.<br />\n	<span style="mso-spacerun: yes\;">&nbsp\; </span></font></font></font></p>\n<p class="MsoNormal" style="margin: 0in 0in 0pt 0.1in\;">\n	<font face="Calibri"><font color="#000000" size="3">Wednesday\, September 18<span style="mso-spacerun: yes\;">&nbsp\;&nbsp\; </span>6:30-9 p.m.<span style="mso-spacerun: yes\;">&nbsp\;&nbsp\; </span>A Taste of Italy</font></font></p>\n<p class="MsoNormal" style="margin: 0in 0in 0pt 0.1in\;">\n	<font face="Calibri"><font color="#000000" size="3">Wednesday\, October 16<span style="mso-spacerun: yes\;">&nbsp\;&nbsp\;&nbsp\;&nbsp\;&nbsp\;&nbsp\;&nbsp\; </span>6:30-9 p.m.<span style="mso-spacerun: yes\;">&nbsp\;&nbsp\;&nbsp\; </span>Fall Harvest</font></font></p>\n<p class="MsoNormal" style="margin: 0in 0in 0pt 0.1in\;">\n	<font color="#000000" face="Calibri" size="3">Wednesday\, November 20<span style="mso-spacerun: yes\;">&nbsp\;&nbsp\;&nbsp\; </span>6:30-9 p.m.<span style="mso-spacerun: yes\;">&nbsp\;&nbsp\;&nbsp\; </span>Thanksgiving Side Dishes</font></p>\n
LOCATION:Wilder Mansion Elmhurst\, IL 60126
UID:e.333.5573
SEQUENCE:3
DTSTAMP:20260422T112323Z
URL:https://chambermaster.elmhurstchamber.org/events/details/wilder-mansion-culinary-series-09-18-2013-5573
END:VEVENT

END:VCALENDAR
