BEGIN:VCALENDAR
VERSION:2.0
PRODID:-//ChamberMaster//Event Calendar 2.0//EN
METHOD:PUBLISH
X-PUBLISHED-TTL:P3D
REFRESH-INTERVAL:P3D
CALSCALE:GREGORIAN
BEGIN:VEVENT
DTSTART:20121110T170000Z
DTEND:20121110T230000Z
X-MICROSOFT-CDO-ALLDAYEVENT:FALSE
SUMMARY:Wilder Mansion Holiday Market
DESCRIPTION:Turn your holiday shopping into a memorable experience at the Wilder Mansion Holiday Market! Explore one-of-a-kind holiday gifts for all.
X-ALT-DESC;FMTTYPE=text/html:<span style="line-height: 115%\; font-family: 'cambria'\, 'serif'\; font-size: 12pt\; mso-ascii-theme-font: major-latin\; mso-hansi-theme-font: major-latin\; mso-fareast-font-family: calibri\; mso-fareast-theme-font: minor-latin\; mso-bidi-font-family: 'times new roman'\; mso-bidi-theme-font: minor-bidi\; mso-ansi-language: en-us\; mso-fareast-language: en-us\; mso-bidi-language: ar-sa"><font color="#000000" face="Cambria">Turn your holiday shopping into a memorable experience at the Wilder Mansion Holiday Market! Explore one-of-a-kind holiday gifts for all.</font></span>
LOCATION:Wilder Mansion
UID:e.333.4906
SEQUENCE:3
DTSTAMP:20260424T145619Z
URL:https://chambermaster.elmhurstchamber.org/events/details/wilder-mansion-holiday-market-11-10-2012-4906
END:VEVENT

END:VCALENDAR
