BEGIN:VCALENDAR
VERSION:2.0
PRODID:-//ChamberMaster//Event Calendar 2.0//EN
METHOD:PUBLISH
X-PUBLISHED-TTL:P3D
REFRESH-INTERVAL:P3D
CALSCALE:GREGORIAN
BEGIN:VEVENT
DTSTART:20121103T140000Z
DTEND:20130102T230000Z
X-MICROSOFT-CDO-ALLDAYEVENT:FALSE
SUMMARY:Wilder Park Conservatory
DESCRIPTION:Fall Show: November 3   25\n\n	Holiday Show: December 1   January 2\n\n	 \n\n	Take time to enjoy the displays of foliage and flowering plants in the Wilder Park Conservatory. The Conservatory is open to the public daily from 9 a.m.   5 p.m. The displays are enhanced by the color and beauty of flowering plants of the season. Our horticulturist is available to answer questions about plants\, conduct tours and give lectures to community organizations.
X-ALT-DESC;FMTTYPE=text/html:<p class="MsoNormal" style="margin: 0in 0in 0pt">\n	<span style="line-height: 115%\; font-family: 'cambria'\, 'serif'\; font-size: 12pt\; mso-ascii-theme-font: major-latin\; mso-hansi-theme-font: major-latin"><font color="#000000">Fall Show: November 3 &ndash\; 25<o:p></o:p></font></span></p>\n<p class="MsoNormal" style="margin: 0in 0in 0pt">\n	<span style="line-height: 115%\; font-family: 'cambria'\, 'serif'\; font-size: 12pt\; mso-ascii-theme-font: major-latin\; mso-hansi-theme-font: major-latin"><font color="#000000">Holiday Show: December 1 &ndash\; January 2<o:p></o:p></font></span></p>\n<p class="MsoNormal" style="margin: 0in 0in 0pt">\n	<span style="line-height: 115%\; font-family: 'cambria'\, 'serif'\; font-size: 12pt\; mso-ascii-theme-font: major-latin\; mso-hansi-theme-font: major-latin"><o:p><font color="#000000">&nbsp\;</font></o:p></span></p>\n<p class="MsoNormal" style="margin: 0in 0in 0pt">\n	<span style="line-height: 115%\; font-family: 'cambria'\, 'serif'\; font-size: 12pt\; mso-ascii-theme-font: major-latin\; mso-hansi-theme-font: major-latin"><font color="#000000">Take time to enjoy the displays of foliage and flowering plants in the Wilder Park Conservatory. The Conservatory is open to the public daily from 9 a.m. &ndash\; 5 p.m. The displays are enhanced by the color and beauty of flowering plants of the season. Our horticulturist is available to answer questions about plants\, conduct tours and give lectures to community organizations. <o:p></o:p></font></span></p>\n
LOCATION:Wilder Park Conservatory 225 Prospect
UID:e.333.4917
SEQUENCE:3
DTSTAMP:20260424T114138Z
URL:https://chambermaster.elmhurstchamber.org/events/details/wilder-park-conservatory-11-03-2012-4917
END:VEVENT

END:VCALENDAR
