BEGIN:VCALENDAR
VERSION:2.0
PRODID:-//ChamberMaster//Event Calendar 2.0//EN
METHOD:PUBLISH
X-PUBLISHED-TTL:P3D
REFRESH-INTERVAL:P3D
CALSCALE:GREGORIAN
BEGIN:VEVENT
DTSTART:20130511T120000Z
DTEND:20130511T190000Z
X-MICROSOFT-CDO-ALLDAYEVENT:FALSE
SUMMARY:York High school-Key Club Gradge Sale
DESCRIPTION:The Elmhurst Walk-In Ministry is holding its second annual Garage Sale thanks to the help of the York High School Key Club and Bethel First United Church of Christ.\n\n	The sale takes place on Saturday\, May 11\, from 7 a.m. to 2 p.m located at 315 E.St. Charles Rd. Also the Kiwanis Club of Elmhurst Pancake Breakfast will be held next store at Sandburg Middle School. \n\n	 \n\n	Donations of your gently worn household items\, clothing (especially children's)\, sports equipment\, etc. are needed.  \n\n	 \n\n	DONATIONS WILL BE ACCEPTED ONLY on FRIDAY\, MAY 10 at Bethel Church BETWEEN NOON AND 6 P.M.
X-ALT-DESC;FMTTYPE=text/html:<div>\n	The Elmhurst Walk-In Ministry is holding its second annual Garage Sale thanks to the help of the <strong>York High School Key Club</strong> and <strong>Bethel First United Church of Christ.</strong><br />\n	The sale takes place on <strong><u>Saturday\, May 11</u></strong>\, from 7 a.m. to 2 p.m located at 315 E.St. Charles Rd. Also the Kiwanis Club of Elmhurst <strong>Pancake Breakfast </strong>will be&nbsp\;held next store at Sandburg Middle School.&nbsp\;</div>\n<div>\n	&nbsp\;</div>\n<div>\n	Donations of your gently worn household items\, clothing (especially children&#39\;s)\, sports equipment\, etc. are needed. &nbsp\;</div>\n<div>\n	&nbsp\;</div>\n<div>\n	<strong>DONATIONS</strong> WILL BE <strong>ACCEPTED</strong> <strong>ONLY</strong> on <strong>FRIDAY\, MAY 10</strong> at Bethel Church <strong><u>BETWEEN NOON AND 6 P.M.</u></strong></div>\n
LOCATION:From Lawn of Bethel United Church of Christ 315 E. St. Charles Rd\, Elmhurst\, IL 60126
UID:e.333.5288
SEQUENCE:3
DTSTAMP:20260422T180957Z
URL:https://chambermaster.elmhurstchamber.org/events/details/york-high-school-key-club-gradge-sale-05-11-2013-5288
END:VEVENT

END:VCALENDAR
