BEGIN:VCALENDAR
VERSION:2.0
PRODID:-//ChamberMaster//Event Calendar 2.0//EN
METHOD:PUBLISH
X-PUBLISHED-TTL:P3D
REFRESH-INTERVAL:P3D
CALSCALE:GREGORIAN
BEGIN:VEVENT
DTSTART:20111029T151500Z
DTEND:20111029T170000Z
X-MICROSOFT-CDO-ALLDAYEVENT:FALSE
SUMMARY:York Theater Free Movie!
DESCRIPTION:Halloween cannot come soon enough\, and the York Theatre is getting excited for its spooky festivities this year! On Saturday\, October 29th the Elmhurst City Centre will present a FREE screening of the family-friendly film Wallace and Gromit: Curse of the Were-Rabbit (G)beginning at 10:15AM. Festivities also include a magic show before the movie and a costume parade plus trick-or-treating at participating stores in downtown Elmhurst after the screening.
X-ALT-DESC;FMTTYPE=text/html:<p style="margin-top: 10px\; margin-right: 0px\; margin-bottom: 10px\; margin-left: 0px\; ">\n	<font face="Tahoma" size="2">Halloween cannot come soon enough\, and the York Theatre is getting excited for its spooky festivities this year!</font><font size="2" style="font-family: tahoma\, sans-serif\; ">&nbsp\;On&nbsp\;<b>Saturday\, October 29th&nbsp\;</b>the Elmhurst City Centre will present a&nbsp\;<b>FREE screening</b>&nbsp\;of the family-friendly film&nbsp\;<b><i>Wallace and Gromit: Curse of the Were-Rabbit</i></b>&nbsp\;(G)<b>beginning at 10:15AM.</b>&nbsp\;Festivities also include a&nbsp\;<b>magic show before the movie</b>&nbsp\;and a&nbsp\;<b>costume parade plus trick-or-treating</b>&nbsp\;at participating stores in downtown Elmhurst after the screening.</font></p>\n
LOCATION:York Theater
UID:e.333.4521
SEQUENCE:3
DTSTAMP:20260425T132517Z
URL:https://chambermaster.elmhurstchamber.org/events/details/york-theater-free-movie-10-29-2011-4521
END:VEVENT

END:VCALENDAR
