BEGIN:VCALENDAR
VERSION:2.0
PRODID:-//ChamberMaster//Event Calendar 2.0//EN
METHOD:PUBLISH
X-PUBLISHED-TTL:P3D
REFRESH-INTERVAL:P3D
CALSCALE:GREGORIAN
BEGIN:VEVENT
DTSTART:20120417T200000Z
DTEND:20120417T220000Z
X-MICROSOFT-CDO-ALLDAYEVENT:FALSE
SUMMARY:York Theatre Presents "A Noble Lie"
DESCRIPTION:Elmhurst\, IL   "A Noble Lie\," produced by FREE MIND FILMS\, answers many questions that people have asked about the official story that surrounds the April 19\, 1995 Oklahoma City bombing\, which destroyed much of the Alfred P. Murrah Federal Building in Oklahoma City. On Tuesday\, April 17th at 3 PM\, Producer Chris Emery will be presenting the newly released documentary at the York Theatre\, located at 150 North York Street in downtown Elmhurst. Tickets are $6 per person and can be purchased on www.classiccinemas.com or at the York Theatre box office. \n\n	Produced in Oklahoma\, "A Noble Lie" re-examines the Oklahoma City bombing tragedy in a measured\, informative and scholarly way and\, in the process\, exposes the treachery that has gone unpunished. The documentary features in-depth interviews with police officers\, first responders\, victims\, journalists and investigators whose evidence demonstrates details as to what really happened regarding this horrific event\, taking the lives of 168 people that have been summarily covered up by the Federal Government.\n\n	 \n\n	Join Producer Chris Emery after the film for a question and answer session. Copies of the documentary (DVD) will also be available for purchase. \n\n	 \n\n	For further information about "A Noble Lie\," please visit www.anoblelie.com.
X-ALT-DESC;FMTTYPE=text/html:<!--StartFragment-->\n<p class="MsoNormal" style="line-height: 150%\; margin-bottom: 12pt">\n	<b><span style="font-family: Tahoma">Elmhurst\, IL &ndash\; &ldquo\;A Noble Lie\,&rdquo\;</span></b><span style="font-family: Tahoma"> produced by FREE MIND FILMS\, answers many questions that people have asked about the official story that surrounds the April 19\, 1995 Oklahoma City bombing\, which destroyed much of the Alfred P. Murrah Federal Building in Oklahoma City. On <b>Tuesday\, April 17<sup>th</sup> at 3 PM</b>\, Producer Chris Emery will be presenting the newly released documentary at the <b>York Theatre</b>\, located at<b> 150 North York Street in downtown Elmhurst.</b> Tickets are $6 per person and can be purchased on <a href="http://www.classiccinemas.com">www.classiccinemas.com</a> or at the York Theatre box office. <o:p></o:p></span></p>\n<p class="MsoNormal" style="line-height: 150%">\n	<span style="font-family: Tahoma">Produced in Oklahoma\, &ldquo\;A Noble Lie&rdquo\; re-examines the Oklahoma City bombing tragedy in a measured\, informative and scholarly way and\, in the process\, exposes the treachery that has gone unpunished. The documentary features in-depth interviews with police officers\, first responders\, victims\, journalists and investigators whose evidence demonstrates details as to what really happened regarding this horrific event\, taking the lives of 168 people that have been summarily covered up by the Federal Government.<o:p></o:p></span></p>\n<p class="MsoNormal" style="line-height: 150%">\n	<span style="font-family: Tahoma">&nbsp\;</span></p>\n<p class="MsoNormal" style="line-height: 150%">\n	<span style="font-family: Tahoma">Join Producer Chris Emery after the film for a question and answer session. Copies of the documentary (DVD) will also be available for purchase. </span><span style="line-height: 150%\; font-family: Tahoma\; mso-bidi-font-size: 13.0pt"><o:p></o:p></span></p>\n<p class="MsoNormal" style="line-height: 150%">\n	<span style="line-height: 150%\; font-family: Tahoma\; mso-bidi-font-size: 13.0pt">&nbsp\;</span></p>\n<p class="MsoNormal" style="line-height: 150%\; margin-bottom: 12pt">\n	<span style="font-family: Tahoma">For further information about <b>&ldquo\;</b>A Noble Lie\,&rdquo\; please visit <a href="http://www.anoblelie.com">www.anoblelie.com</a>.&nbsp\;<o:p></o:p></span></p>\n<!--EndFragment-->
LOCATION:York Theatre
UID:e.333.4830
SEQUENCE:3
DTSTAMP:20260425T035700Z
URL:https://chambermaster.elmhurstchamber.org/events/details/york-theatre-presents-a-noble-lie-04-17-2012-4830
END:VEVENT

END:VCALENDAR
