BEGIN:VCALENDAR
VERSION:2.0
PRODID:-//ChamberMaster//Event Calendar 2.0//EN
METHOD:PUBLISH
X-PUBLISHED-TTL:P3D
REFRESH-INTERVAL:P3D
CALSCALE:GREGORIAN
BEGIN:VEVENT
DTSTART:20110323T183000Z
DTEND:20110324T000000Z
X-MICROSOFT-CDO-ALLDAYEVENT:FALSE
SUMMARY:York Theatre Presents "Gone with the Wind"
DESCRIPTION:The York Theatre\, located at 150 N. York St.\, will participate in ELMHURST READS 2011 by showing an outstanding movie set during the Civil War. "Gone with the Wind" will be shown on Wednesday\, March 23\, 2011\, at 1:30 p.m. and 7:00 p.m. Admission is $5.\n\n\n\nIn honor of the 150th anniversary of the beginning of the American Civil War\, ELMHURST READS 2011 will feature programs at the Elmhurst Library along with exhibits\, activities\, and presentations throughout Elmhurst. ELMHURST READS aims to inspire conversation within the community about the Civil War including the politics of the time\, legendary leaders\, and life during this historical war. For more information\, please visit www.elmhurstpubliclibrary.org.\n\n\n\n"Gone with the Wind" (1939)\, starring Clark Gable and Vivien Leigh\, is an epic tale of the old south from the start of the Civil War through reconstruction. The film follows the life of beautiful Scarlett O'Hara. From her young innocent days on a feudalistic plantation to the war-torn streets of Atlanta\; from her first love\, who she has always desired to three husbands\; from the utmost luxury to absolute starvation and poverty\; from her innocence to her understanding and comprehension of life.\n\n\n\nMark your calendars for the second Civil War screening when the York Theatre presents "Glory" on Thursday\, April 7\, 2011\, at 7:00 p.m.
X-ALT-DESC;FMTTYPE=text/html:The <a href="http://chambermaster.elmhurstchamber.org/list/Member/york-theatre-classic-cinemas-elmhurst.htm">York Theatre</a>\, located at 150 N. York St.\, will participate in ELMHURST READS 2011 by showing an outstanding movie set during the Civil War. &quot\;Gone with the Wind&quot\; will be shown on Wednesday\, March 23\, 2011\, at 1:30 p.m. and 7:00 p.m. Admission is $5.<br />\n<br />\nIn honor of the 150th anniversary of the beginning of the American Civil War\, ELMHURST READS 2011 will feature programs at the Elmhurst Library along with exhibits\, activities\, and presentations throughout Elmhurst. ELMHURST READS aims to inspire conversation within the community about the Civil War including the politics of the time\, legendary leaders\, and life during this historical war. For more information\, please visit <a href="http://www.elmhurstpubliclibrary.org">www.elmhurstpubliclibrary.org</a>.<br />\n<br />\n&quot\;Gone with the Wind&quot\; (1939)\, starring Clark Gable and Vivien Leigh\, is an epic tale of the old south from the start of the Civil War through reconstruction. The film follows the life of beautiful Scarlett O&#39\;Hara. From her young innocent days on a feudalistic plantation to the war-torn streets of Atlanta\; from her first love\, who she has always desired to three husbands\; from the utmost luxury to absolute starvation and poverty\; from her innocence to her understanding and comprehension of life.<br />\n<br />\nMark your calendars for the second Civil War screening when the York Theatre presents &quot\;Glory&quot\; on Thursday\, April 7\, 2011\, at 7:00 p.m. 
LOCATION:York Theatre 150 N. York St. Elmhurst\, IL 60126
UID:e.333.4094
SEQUENCE:3
DTSTAMP:20260425T234038Z
URL:https://chambermaster.elmhurstchamber.org/events/details/york-theatre-presents-gone-with-the-wind-03-23-2011-4094
END:VEVENT

END:VCALENDAR
